{"text_format":"3","workbook":"xlsx","n_sheets":1,"sheets":["Sheet1"],"not_rendered":{"external_links":2},"read":"whole","date_system":"1900"}

{"sheet":"Sheet1","index":0,"n_rows":63,"n_cols":4,"rows_kept":63,"merged":[[1,0,1,3]]}
["附件1"]
["精品任意选修课目录"]
["序号","课程名称","批次","课程负责人"]
[1,"新时代大学生恋爱与婚姻","第一批",{"$f":"VLOOKUP(B4,[1]Sheet3!$A$1:$B$31,2,0)","v":"谢赛银"}]
[2,"现代中国女性文学与影视改编","第一批",{"$f":"VLOOKUP(B5,[1]Sheet3!$A$1:$B$31,2,0)","v":"孙亚男"}]
[3,"商务礼仪","第一批",{"$f":"VLOOKUP(B6,[1]Sheet3!$A$1:$B$31,2,0)","v":"郑颖"}]
[4,"日常生活中的经济学","第一批",{"$f":"VLOOKUP(B7,[1]Sheet3!$A$1:$B$31,2,0)","v":"梁晶"}]
[5,"食品营养与卫生安全","第一批",{"$f":"VLOOKUP(B8,[1]Sheet3!$A$1:$B$31,2,0)","v":"刘奇勇"}]
[6,"中外音乐经典名作赏析","第一批",{"$f":"VLOOKUP(B9,[1]Sheet3!$A$1:$B$31,2,0)","v":"曹佩佩"}]
[7,"韩国社会与文化","第一批",{"$f":"VLOOKUP(B10,[1]Sheet3!$A$1:$B$31,2,0)","v":"全香花"}]
[8,"数学文化赏析","第一批",{"$f":"VLOOKUP(B11,[1]Sheet3!$A$1:$B$31,2,0)","v":"唐方旭"}]
[9,"影视艺术鉴赏","第一批",{"$f":"VLOOKUP(B12,[1]Sheet3!$A$1:$B$31,2,0)","v":"张强"}]
[10,"外国经典小说赏评","第一批",{"$f":"VLOOKUP(B13,[1]Sheet3!$A$1:$B$31,2,0)","v":"吴琼"}]
[11,"走遍俄罗斯","第一批",{"$f":"VLOOKUP(B14,[1]Sheet3!$A$1:$B$31,2,0)","v":"李琛琛"}]
[12,"面向数字时代的信息技能","第一批",{"$f":"VLOOKUP(B15,[1]Sheet3!$A$1:$B$31,2,0)","v":"程奂莹"}]
[13,"日本动漫产业与动漫文化研究","第一批",{"$f":"VLOOKUP(B16,[1]Sheet3!$A$1:$B$31,2,0)","v":"苏萌"}]
[14,"体能训练","第一批",{"$f":"VLOOKUP(B17,[1]Sheet3!$A$1:$B$31,2,0)","v":"何李静"}]
[15,"office的应用与实践","第一批",{"$f":"VLOOKUP(B18,[1]Sheet3!$A$1:$B$31,2,0)","v":"张囡囡"}]
[16,"考研数学基础（高等数学）","第二批",{"$f":"VLOOKUP(B19,[1]Sheet3!$A$1:$B$31,2,0)","v":"唐方旭"}]
[17,"大学生创业基础与实践","第二批",{"$f":"VLOOKUP(B20,[1]Sheet3!$A$1:$B$31,2,0)","v":"梁如春"}]
[18,"汉字文化","第二批",{"$f":"VLOOKUP(B21,[1]Sheet3!$A$1:$B$31,2,0)","v":"焦树芳"}]
[19,"考研英语综合技能课:考研英语词汇突破","第二批",{"$f":"VLOOKUP(B22,[1]Sheet3!$A$1:$B$31,2,0)","v":"张航"}]
[20,"心理学与生活","第二批",{"$f":"VLOOKUP(B23,[1]Sheet3!$A$1:$B$31,2,0)","v":"刘小茜"}]
[21,"美国文化之旅","第二批",{"$f":"VLOOKUP(B24,[1]Sheet3!$A$1:$B$31,2,0)","v":"胡志坤"}]
[22,"品牌设计","第二批",{"$f":"VLOOKUP(B25,[1]Sheet3!$A$1:$B$31,2,0)","v":"丁太岩"}]
[23,"文化差异与跨文化交际","第二批",{"$f":"VLOOKUP(B26,[1]Sheet3!$A$1:$B$31,2,0)","v":"袁艺铭"}]
[24,"经济学考研辅导","第二批",{"$f":"VLOOKUP(B27,[1]Sheet3!$A$1:$B$31,2,0)","v":"梁晶"}]
[25,"日本文化概况","第二批",{"$f":"VLOOKUP(B28,[1]Sheet3!$A$1:$B$31,2,0)","v":"宋爽"}]
[26,"普通话与口语交际","第二批",{"$f":"VLOOKUP(B29,[1]Sheet3!$A$1:$B$31,2,0)","v":"霍倩倩"}]
[27,"管理运筹学","第二批",{"$f":"VLOOKUP(B30,[1]Sheet3!$A$1:$B$31,2,0)","v":"周磊"}]
[28,"当代大学生婚恋中的法律思考","第二批",{"$f":"VLOOKUP(B31,[1]Sheet3!$A$1:$B$31,2,0)","v":"张健"}]
[29,"中国传统戏曲与曲艺文化导论","第二批",{"$f":"VLOOKUP(B32,[1]Sheet3!$A$1:$B$31,2,0)","v":"钟学艳"}]
[30,"“互联网金融”热点专题","第二批","李婕妤"]
[31,"前沿科技与创新创业","第三批",{"$f":"VLOOKUP(B34,[2]Sheet1!$B$2:$C$11,2,0)","v":"邵阳"}]
[32,"考研数学基础（线性代数）","第三批",{"$f":"VLOOKUP(B35,[2]Sheet1!$B$2:$C$11,2,0)","v":"唐方旭"}]
[33,"考研英语综合技能培训: 考研词汇突破（II）","第三批",{"$f":"VLOOKUP(B36,[2]Sheet1!$B$2:$C$11,2,0)","v":"张航"}]
[34,"数字货币","第三批",{"$f":"VLOOKUP(B37,[2]Sheet1!$B$2:$C$11,2,0)","v":"刘云龙"}]
[35,"积极心理学","第三批",{"$f":"VLOOKUP(B38,[2]Sheet1!$B$2:$C$11,2,0)","v":"胡田霞"}]
[36,"旅游英语实用口语与文化","第三批",{"$f":"VLOOKUP(B39,[2]Sheet1!$B$2:$C$11,2,0)","v":"唐胄"}]
[37,"数学史","第三批",{"$f":"VLOOKUP(B40,[2]Sheet1!$B$2:$C$11,2,0)","v":"赵顺心"}]
[38,"商务谈判","第三批",{"$f":"VLOOKUP(B41,[2]Sheet1!$B$2:$C$11,2,0)","v":"刘佳鑫"}]
[39,"英美商务礼仪与口语交际","第三批",{"$f":"VLOOKUP(B42,[2]Sheet1!$B$2:$C$11,2,0)","v":"张宵"}]
[40,"国学经典导读","第四批","崔际银"]
[41,"社交媒体运营","第四批","谢择月"]
[42,"中国民俗文化大观","第四批","霍倩倩"]
[43,"红色文化的跨媒介影像传播","第四批","关峥"]
[44,"游戏化管理","第四批","吴晓娟"]
[45,"中国共产党百年发展历程","第四批","王曼青"]
[46,"生活中的矩阵工厂（MATLAB入门）","第四批","李婕妤"]
[47,"金融学专业考研学习指导","第四批","赵星"]
[48,"考研概率基础","第四批","唐方旭"]
[49,"人工智能-趣味编程","第四批","郭倩倩"]
[50,"中国当代“改革小说\"赏评","第四批","孙亚男"]
[51,"智能财务数据分析与可视化（Python)","第四批","任健"]
[52,"社会生活百科全书—民法典","第四批","张健"]
[53,"数字经济学","第四批","杨子帆"]
[54,"商业银行经营与管理实务案例","第四批","孟颖"]
[55,"《红楼梦》之文化解读","第四批","屈丽蕊"]
[56,"说历史谈人生","第五批","谢赛银"]
[57,"世界文化概览","第五批","吴琼"]
[58,"网络小说鉴赏与研究","第五批","孙亚男"]
[59,"劳动与社会保障法","第五批","李兰英\n殷淑惠"]
[60,"会计在大学生活中的应用","第五批","徐立文"]